BEGIN:VCALENDAR
VERSION:2.0
PRODID:MIIA
BEGIN:VEVENT
UID:15066@emiia.org
DTSTAMP:20260421T111206Z
DTSTART:20260212T183000Z
DTEND:20260212T200000Z
SUMMARY:Rockie Blunt: Special Topics in Supervisory Skills- Session One  (4 pt series) registration for this session registers you for entire series (Feb 12, March 12, 19, 26)
LOCATION:, ,  
DESCRIPTION:\nView More Details: https://www.emiia.org/risk-management-resources/view-training-details?course_instance_id=15066
ORGANIZER:MAILTO:
CATEGORIES:TRAINING
CLASS:PUBLIC
END:VEVENT
END:VCALENDAR