BEGIN:VCALENDAR
VERSION:2.0
PRODID:MIIA
BEGIN:VEVENT
UID:15185@emiia.org
DTSTAMP:20260421T092525Z
DTSTART:20260311T160000Z
DTEND:20260311T183000Z
SUMMARY:Fire Extinguishers
LOCATION:, ,  
DESCRIPTION:\nView More Details: https://www.emiia.org/risk-management-resources/view-training-details?course_instance_id=15185
ORGANIZER:MAILTO:
CATEGORIES:TRAINING
CLASS:PUBLIC
END:VEVENT
END:VCALENDAR